BEGIN:VCALENDAR
VERSION:2.0
PRODID:-//JuZ Bingen - ECPv6.15.17//NONSGML v1.0//EN
CALSCALE:GREGORIAN
METHOD:PUBLISH
X-ORIGINAL-URL:https://www.juz-bingen.de
X-WR-CALDESC:Veranstaltungen für JuZ Bingen
REFRESH-INTERVAL;VALUE=DURATION:PT1H
X-Robots-Tag:noindex
X-PUBLISHED-TTL:PT1H
BEGIN:VTIMEZONE
TZID:Europe/Berlin
BEGIN:DAYLIGHT
TZOFFSETFROM:+0100
TZOFFSETTO:+0200
TZNAME:CEST
DTSTART:20250330T010000
END:DAYLIGHT
BEGIN:STANDARD
TZOFFSETFROM:+0200
TZOFFSETTO:+0100
TZNAME:CET
DTSTART:20251026T010000
END:STANDARD
BEGIN:DAYLIGHT
TZOFFSETFROM:+0100
TZOFFSETTO:+0200
TZNAME:CEST
DTSTART:20260329T010000
END:DAYLIGHT
BEGIN:STANDARD
TZOFFSETFROM:+0200
TZOFFSETTO:+0100
TZNAME:CET
DTSTART:20261025T010000
END:STANDARD
BEGIN:DAYLIGHT
TZOFFSETFROM:+0100
TZOFFSETTO:+0200
TZNAME:CEST
DTSTART:20270328T010000
END:DAYLIGHT
BEGIN:STANDARD
TZOFFSETFROM:+0200
TZOFFSETTO:+0100
TZNAME:CET
DTSTART:20271031T010000
END:STANDARD
END:VTIMEZONE
BEGIN:VEVENT
DTSTART;TZID=Europe/Berlin:20260206T170000
DTEND;TZID=Europe/Berlin:20260207T010000
DTSTAMP:20260424T094101
CREATED:20260203T111607Z
LAST-MODIFIED:20260203T193112Z
UID:247-1770397200-1770426000@www.juz-bingen.de
SUMMARY:Skate-Punk-Techno-Theke
DESCRIPTION:Specials:\n\nOpen-Dj-Decks\nEinweihung Mini-Rampe\nDice A Drink
URL:https://www.juz-bingen.de/event/skate-punk-techno-theke/
LOCATION:JuZ Bingen\, Mainzer Straße 103a\, Bingen am Rhein\, 55411\, Germany
CATEGORIES:Parties
END:VEVENT
BEGIN:VEVENT
DTSTART;TZID=Europe/Berlin:20260227T200000
DTEND;TZID=Europe/Berlin:20260228T000000
DTSTAMP:20260424T094101
CREATED:20260127T161502Z
LAST-MODIFIED:20260128T201945Z
UID:222-1772222400-1772236800@www.juz-bingen.de
SUMMARY:JuZ und Tollerei
DESCRIPTION:Am 27. Februar startet die Konzertreihe „JuZ und Tollerei“ mit einem fulminanten Doppelkonzert und einer mitreißenden After-Party in ihre erste Runde!\nAuf der Bühne stehen für euch Clampdown und Der Gang 350\, die mit ihrer Energie und Leidenschaft den Saal zum Beben bringen werden. Im Anschluss lädt die Aftershowparty zum Tanzen ein: Minkimio und Janko sorgen mit feinsten Techno-Beats für eine Nacht voller pulsierender Rhythmen.\nKommt vorbei und erlebt einen Abend\, der wild\, lebendig und unvergesslich wird! \nSpaß^^ Das ist offensichtlich ein perfekter KI Promo Text… was die KI aber nicht kann\, ist Feiern bis zum Morgen. DAS können wir am besten!\nKommt vorbei und verschwendet Eure Zeit mit uns! \nJuZ Bingen / Mainzer Str. 103a / Doors 20 Uhr / Spendenempfehlung 8€+ \n 
URL:https://www.juz-bingen.de/event/juz-und-tollerei/
LOCATION:JuZ Bingen\, Mainzer Straße 103a\, Bingen am Rhein\, 55411\, Germany
END:VEVENT
END:VCALENDAR